BEGIN:VCALENDAR
VERSION:2.0
PRODID:-//Bee Development Authority - ECPv6.15.17.1//NONSGML v1.0//EN
CALSCALE:GREGORIAN
METHOD:PUBLISH
X-ORIGINAL-URL:https://www.beedevelopmentauthority.org
X-WR-CALDESC:Events for Bee Development Authority
REFRESH-INTERVAL;VALUE=DURATION:PT1H
X-Robots-Tag:noindex
X-PUBLISHED-TTL:PT1H
BEGIN:VTIMEZONE
TZID:America/Chicago
BEGIN:DAYLIGHT
TZOFFSETFROM:-0600
TZOFFSETTO:-0500
TZNAME:CDT
DTSTART:20250309T080000
END:DAYLIGHT
BEGIN:STANDARD
TZOFFSETFROM:-0500
TZOFFSETTO:-0600
TZNAME:CST
DTSTART:20251102T070000
END:STANDARD
BEGIN:DAYLIGHT
TZOFFSETFROM:-0600
TZOFFSETTO:-0500
TZNAME:CDT
DTSTART:20260308T080000
END:DAYLIGHT
BEGIN:STANDARD
TZOFFSETFROM:-0500
TZOFFSETTO:-0600
TZNAME:CST
DTSTART:20261101T070000
END:STANDARD
BEGIN:DAYLIGHT
TZOFFSETFROM:-0600
TZOFFSETTO:-0500
TZNAME:CDT
DTSTART:20270314T080000
END:DAYLIGHT
BEGIN:STANDARD
TZOFFSETFROM:-0500
TZOFFSETTO:-0600
TZNAME:CST
DTSTART:20271107T070000
END:STANDARD
END:VTIMEZONE
BEGIN:VEVENT
DTSTART;TZID=America/Chicago:20260309T173000
DTEND;TZID=America/Chicago:20260309T183000
DTSTAMP:20260422T105236
CREATED:20260304T140943Z
LAST-MODIFIED:20260304T140943Z
UID:1879-1773077400-1773081000@www.beedevelopmentauthority.org
SUMMARY:Regular BDA Board Meeting
DESCRIPTION:
URL:https://www.beedevelopmentauthority.org/event/regular-bda-board-meeting-23/
END:VEVENT
BEGIN:VEVENT
DTSTART;TZID=America/Chicago:20260312T120000
DTEND;TZID=America/Chicago:20260312T130000
DTSTAMP:20260422T105236
CREATED:20260309T133001Z
LAST-MODIFIED:20260309T133043Z
UID:1881-1773316800-1773320400@www.beedevelopmentauthority.org
SUMMARY:Special Called Meeting at 12 Noon at BDA Admin Office
DESCRIPTION:
URL:https://www.beedevelopmentauthority.org/event/special-called-meeting-at-12-noon-at-bda-admin-office/
END:VEVENT
BEGIN:VEVENT
DTSTART;TZID=America/Chicago:20260317T120000
DTEND;TZID=America/Chicago:20260317T130000
DTSTAMP:20260422T105236
CREATED:20260310T175400Z
LAST-MODIFIED:20260310T175400Z
UID:1883-1773748800-1773752400@www.beedevelopmentauthority.org
SUMMARY:Special Called Meeting March 17 2026 at BDA Admin Office
DESCRIPTION:
URL:https://www.beedevelopmentauthority.org/event/special-called-meeting-march-17-2026-at-bda-admin-office/
END:VEVENT
BEGIN:VEVENT
DTSTART;TZID=America/Chicago:20260317T120000
DTEND;TZID=America/Chicago:20260317T130000
DTSTAMP:20260422T105236
CREATED:20260312T210214Z
LAST-MODIFIED:20260312T210214Z
UID:1887-1773748800-1773752400@www.beedevelopmentauthority.org
SUMMARY:Special Called Meeting March 17 2026 Cancelled
DESCRIPTION:
URL:https://www.beedevelopmentauthority.org/event/special-called-meeting-march-17-2026-cancelled/
END:VEVENT
END:VCALENDAR